BEGIN:VCALENDAR
VERSION:2.0
PRODID:-//Fast North Corp//Race Roster
CALSCALE:GREGORIAN
BEGIN:VEVENT
UID:868189_a2ec4f79-5621-4880-b251-5638cb00cb2c_1776970406@raceroster.com
DTSTAMP:20260423T185326Z
SUMMARY:Run The South Half Marathon\, 10K & 5K
DTSTART;TZID=America/New_York:20260619T181500
DTEND;TZID=America/New_York:20260619T211500
URL;VALUE=URI:https://runthesouth.raceroster.com
 marathon-10k-and-5k
DESCRIPTION:See all event details at https://raceroster.com/events/2026/115
 884/run-the-south-half-marathon-10k-and-5k
LOCATION:McAlpine Creek Park\, Monroe Road\, Charlotte\, NC
END:VEVENT
BEGIN:VEVENT
UID:868190_a2ec4f79-5621-4880-b251-5638cb00cb2c_1776970406@raceroster.com
DTSTAMP:20260423T185326Z
SUMMARY:Run The South Half Marathon\, 10K & 5K
DTSTART;TZID=America/New_York:20260620T070000
DTEND;TZID=America/New_York:20260620T100000
URL;VALUE=URI:https://runthesouth.raceroster.com
 marathon-10k-and-5k
DESCRIPTION:See all event details at https://raceroster.com/events/2026/115
 884/run-the-south-half-marathon-10k-and-5k
LOCATION:McAlpine Creek Park\, Monroe Road\, Charlotte\, NC
END:VEVENT
END:VCALENDAR
